BEGIN:VCALENDAR
VERSION:2.0
PRODID:-//petit train de chalonnes - ECPv6.15.20//NONSGML v1.0//EN
CALSCALE:GREGORIAN
METHOD:PUBLISH
X-WR-CALNAME:petit train de chalonnes
X-ORIGINAL-URL:https://www.petittrainchalonnes.com
X-WR-CALDESC:Évènements pour petit train de chalonnes
REFRESH-INTERVAL;VALUE=DURATION:PT1H
X-Robots-Tag:noindex
X-PUBLISHED-TTL:PT1H
BEGIN:VTIMEZONE
TZID:Europe/Paris
BEGIN:DAYLIGHT
TZOFFSETFROM:+0100
TZOFFSETTO:+0200
TZNAME:CEST
DTSTART:20250330T010000
END:DAYLIGHT
BEGIN:STANDARD
TZOFFSETFROM:+0200
TZOFFSETTO:+0100
TZNAME:CET
DTSTART:20251026T010000
END:STANDARD
BEGIN:DAYLIGHT
TZOFFSETFROM:+0100
TZOFFSETTO:+0200
TZNAME:CEST
DTSTART:20260329T010000
END:DAYLIGHT
BEGIN:STANDARD
TZOFFSETFROM:+0200
TZOFFSETTO:+0100
TZNAME:CET
DTSTART:20261025T010000
END:STANDARD
BEGIN:DAYLIGHT
TZOFFSETFROM:+0100
TZOFFSETTO:+0200
TZNAME:CEST
DTSTART:20270328T010000
END:DAYLIGHT
BEGIN:STANDARD
TZOFFSETFROM:+0200
TZOFFSETTO:+0100
TZNAME:CET
DTSTART:20271031T010000
END:STANDARD
END:VTIMEZONE
BEGIN:VEVENT
DTSTART;TZID=Europe/Paris:20260806T103000
DTEND;TZID=Europe/Paris:20260806T123000
DTSTAMP:20260422T205805
CREATED:20260316T172926Z
LAST-MODIFIED:20260316T172926Z
UID:10001387-1786012200-1786019400@www.petittrainchalonnes.com
SUMMARY:🍇Circuit Vignes 🍇- 06/08/2026 -10h30-12h30
DESCRIPTION:Le P’tit train vous emmène pour une balade commentée de 2h au départ de Chalonnes vers le site classé de la Corniche Angevine et au Val de Loire Patrimoine mondial de l’Unesco\, au cœur du vignoble entre la vallée de la Loire et du Layon. Une pause au Domaine Marçais vous sera proposée pour découvrir et déguster les délicieux vins d’Anjou et jus de raisins à Chaudefonds-sur-Layon. Voyage retour ensuite vers Chalonnes à bord du P’tit Train. \nRdv 15 minutes avant le départ au Caveau de dégustation 1\, rue du Vieux Pont 49290 Chalonnes-sur-Loire
URL:https://www.petittrainchalonnes.com/circuit/%f0%9f%8d%87circuit-vignes-%f0%9f%8d%87-06-08-2026-10h30-12h30-2/
LOCATION:1 rue du Vieux Pont 49290 Chalonnes-sur-Loire\, Ancien caveau de dégustation\, CHALONNES-SUR-LOIRE\, - Selectionnez l'une des options suivantes -\, 49290\, France
ATTACH;FMTTYPE=image/jpeg:https://www.petittrainchalonnes.com/wp-content/uploads/2026/02/440861834_122121649910253812_1706713849180187922_n.jpg
END:VEVENT
BEGIN:VEVENT
DTSTART;TZID=Europe/Paris:20260806T153000
DTEND;TZID=Europe/Paris:20260806T173000
DTSTAMP:20260422T205805
CREATED:20260316T170311Z
LAST-MODIFIED:20260316T172752Z
UID:10001385-1786030200-1786037400@www.petittrainchalonnes.com
SUMMARY:⚓Circuit Ile de Chalonnes ⚓- 06/08/2026 -15h30-17h30
DESCRIPTION:Le P’tit train vous emmène sur l’Ile de Chalonnes classée au Val de Loire Patrimoine de l’Unesco\, pour une balade commentée de 2 h à la découverte de la plus grande île fluviale de Loire et d’Europe avec un habitat\, une biodiversité unique. Vous pourrez également vous initier au jeu de la boule de sable à la société de la Basse Ile. Voyage retour ensuite vers Chalonnes à bord du P’tit Train. \nRdv 15 minutes avant le départ au Caveau de dégustation 1\, rue du Vieux Pont 49290 Chalonnes-sur-Loire
URL:https://www.petittrainchalonnes.com/circuit/%e2%9a%93circuit-ile-de-chalonnes-%e2%9a%93-05-08-2026-15h30-17h30/
LOCATION:1 rue du Vieux Pont 49290 Chalonnes-sur-Loire\, Ancien caveau de dégustation\, CHALONNES-SUR-LOIRE\, - Selectionnez l'une des options suivantes -\, 49290\, France
ATTACH;FMTTYPE=image/jpeg:https://www.petittrainchalonnes.com/wp-content/uploads/2026/02/images.jpg
END:VEVENT
END:VCALENDAR