BEGIN:VCALENDAR
VERSION:2.0
PRODID:-//petit train de chalonnes - ECPv6.15.20//NONSGML v1.0//EN
CALSCALE:GREGORIAN
METHOD:PUBLISH
X-WR-CALNAME:petit train de chalonnes
X-ORIGINAL-URL:https://www.petittrainchalonnes.com
X-WR-CALDESC:Évènements pour petit train de chalonnes
REFRESH-INTERVAL;VALUE=DURATION:PT1H
X-Robots-Tag:noindex
X-PUBLISHED-TTL:PT1H
BEGIN:VTIMEZONE
TZID:Europe/Paris
BEGIN:DAYLIGHT
TZOFFSETFROM:+0100
TZOFFSETTO:+0200
TZNAME:CEST
DTSTART:20250330T010000
END:DAYLIGHT
BEGIN:STANDARD
TZOFFSETFROM:+0200
TZOFFSETTO:+0100
TZNAME:CET
DTSTART:20251026T010000
END:STANDARD
BEGIN:DAYLIGHT
TZOFFSETFROM:+0100
TZOFFSETTO:+0200
TZNAME:CEST
DTSTART:20260329T010000
END:DAYLIGHT
BEGIN:STANDARD
TZOFFSETFROM:+0200
TZOFFSETTO:+0100
TZNAME:CET
DTSTART:20261025T010000
END:STANDARD
BEGIN:DAYLIGHT
TZOFFSETFROM:+0100
TZOFFSETTO:+0200
TZNAME:CEST
DTSTART:20270328T010000
END:DAYLIGHT
BEGIN:STANDARD
TZOFFSETFROM:+0200
TZOFFSETTO:+0100
TZNAME:CET
DTSTART:20271031T010000
END:STANDARD
END:VTIMEZONE
BEGIN:VEVENT
DTSTART;TZID=Europe/Paris:20260406T103000
DTEND;TZID=Europe/Paris:20260406T123000
DTSTAMP:20260422T145801
CREATED:20260205T173133Z
LAST-MODIFIED:20260329T092150Z
UID:10001269-1775471400-1775478600@www.petittrainchalonnes.com
SUMMARY:🐣Le P'tit Train de Pâques 🐣Lundi 6 avril -10h30 à 12h30
DESCRIPTION:On t’invite à célébrer Pâques à bord du P’tit Train ! \nAu départ du caveau de dégustation à Chalonnes\, embarquement à bord du P’tit Train pour une balade entre vignes et vallées. Au milieu du parcours\, on descend du train à la recherche des fameux oeufs de Pâques. Il s’agira de faire preuve d’observation pour trouver les œufs cachés ! Tu rencontreras aussi Lapinou la mascotte du P’tit Train qui viendra à ta rencontre avec son oeuf magique. Une façon originale et bien sympathique de profiter de ce week-end de pâques en famille\, entre amis ou en groupe. La gourmandise et les friandises seront à l’honneur… Embarque pour la chasse à l’oeuf…1\,2\,3…c’est parti ! \nNouveauté cette année : 1 oeuf kidiklik caché sur le parcours p’tit train de Pâques avec un lot offert par kidiklik \n🚂Départ : Caveau de dégustation 1\, rue du Vieux Pont 49290 Chalonnes-sur-Loire
URL:https://www.petittrainchalonnes.com/circuit/%f0%9f%90%a3le-ptit-train-de-paques-%f0%9f%90%a310h30-a-12h30/
LOCATION:1 rue du Vieux Pont 49290 Chalonnes-sur-Loire\, Ancien caveau de dégustation\, CHALONNES-SUR-LOIRE\, - Selectionnez l'une des options suivantes -\, 49290\, France
ATTACH;FMTTYPE=image/jpeg:https://www.petittrainchalonnes.com/wp-content/uploads/2026/02/Lapinou-et-Lapinette.jpg
END:VEVENT
BEGIN:VEVENT
DTSTART;TZID=Europe/Paris:20260406T153000
DTEND;TZID=Europe/Paris:20260406T173000
DTSTAMP:20260422T145801
CREATED:20260205T173307Z
LAST-MODIFIED:20260403T160723Z
UID:10001270-1775489400-1775496600@www.petittrainchalonnes.com
SUMMARY:🐣Le P'tit Train de Pâques 🐣Lundi 6 avril -15h30 à 16h30
DESCRIPTION:On t’invite à célébrer Pâques à bord du P’tit Train ! \nAu départ de l’Office de Tourisme de Chalonnes\, embarquement à bord du P’tit Train pour une balade entre vignes et vallées. Au milieu du parcours\, on descend du train à la recherche des fameux oeufs de Pâques. Il s’agira de faire preuve d’observation pour trouver les œufs cachés ! Tu rencontreras aussi Lapinou la mascotte du P’tit Train qui viendra à ta rencontre avec son oeuf magique. Une façon originale et bien sympathique de profiter de ce week-end de pâques en famille\, entre amis ou en groupe. La gourmandise et les friandises seront à l’honneur… Embarque pour la chasse à l’oeuf…1\,2\,3…c’est parti ! \nNouveauté cette année : 1 oeuf kidiklik caché sur le parcours p’tit train de Pâques avec un lot offert par kidiklik \n🚂Départ : Caveau de dégustation 1\, rue du Vieux Pont 49290 Chalonnes-sur-Loire
URL:https://www.petittrainchalonnes.com/circuit/%f0%9f%90%a3le-ptit-train-de-paques-%f0%9f%90%a315h30-16h30/
LOCATION:1 rue du Vieux Pont 49290 Chalonnes-sur-Loire\, Ancien caveau de dégustation\, CHALONNES-SUR-LOIRE\, - Selectionnez l'une des options suivantes -\, 49290\, France
ATTACH;FMTTYPE=image/jpeg:https://www.petittrainchalonnes.com/wp-content/uploads/2026/02/Lapinou-et-Lapinette.jpg
END:VEVENT
END:VCALENDAR